BEGIN:VCALENDAR
VERSION:2.0
PRODID:spatie/icalendar-generator
DESCRIPTION:Veranstaltungen von Schützen Vinkrath
X-WR-CALDESC:Veranstaltungen von Schützen Vinkrath
REFRESH-INTERVAL;VALUE=DURATION:PT1440M
X-PUBLISHED-TTL:PT1440M
BEGIN:VTIMEZONE
TZID:Etc/GMT+0
BEGIN:STANDARD
DTSTART:20240130T000000Z
TZOFFSETFROM:+0000
TZOFFSETTO:+0000
END:STANDARD
END:VTIMEZONE
BEGIN:VTIMEZONE
TZID:UTC
BEGIN:STANDARD
DTSTART:20250729T125801Z
TZOFFSETFROM:+0000
TZOFFSETTO:+0000
END:STANDARD
END:VTIMEZONE
BEGIN:VEVENT
UID:7-5
DTSTAMP:20260425T125801Z
SUMMARY:175-Jahre Schützen Vinkrath
LOCATION:
ORGANIZER;CN=admin:MAILTO:SebastianWulf@masoft24.de
DTSTART;TZID=Etc/GMT+0;VALUE=DATE:20241026
DTEND;TZID=Etc/GMT+0;VALUE=DATE:20241028
X-ALT-DESC;FMTTYPE=TEXT/HTML:Wir werden in diesem Jahr 175 Jahre alt. Auch 
 wenn unser Jubiläumsschützenfest durch corabedingte Verschiebungen erst 
 im nächsten Jahr stattfindet\, wollen wir gemeinsam dieses Jubiläum in d
 iesem Jahr feiern. Über den genauen Ablauf und Termine werden wir rechtze
 itig informieren
CATEGORIES:General
URL;VALUE=URI:https://schuetzen-vinkrath.de/mc-events/175-jahre-schuetzen-v
 inkrath/
METHOD:PUBLISH
END:VEVENT
END:VCALENDAR